BEGIN:VCALENDAR
VERSION:2.0
PRODID:-//Aging and Disability Business Institute - ECPv6.15.20//NONSGML v1.0//EN
CALSCALE:GREGORIAN
METHOD:PUBLISH
X-ORIGINAL-URL:https://aginganddisabilitybusinessinstitute.org
X-WR-CALDESC:Events for Aging and Disability Business Institute
REFRESH-INTERVAL;VALUE=DURATION:PT1H
X-Robots-Tag:noindex
X-PUBLISHED-TTL:PT1H
BEGIN:VTIMEZONE
TZID:America/New_York
BEGIN:DAYLIGHT
TZOFFSETFROM:-0500
TZOFFSETTO:-0400
TZNAME:EDT
DTSTART:20210314T070000
END:DAYLIGHT
BEGIN:STANDARD
TZOFFSETFROM:-0400
TZOFFSETTO:-0500
TZNAME:EST
DTSTART:20211107T060000
END:STANDARD
BEGIN:DAYLIGHT
TZOFFSETFROM:-0500
TZOFFSETTO:-0400
TZNAME:EDT
DTSTART:20220313T070000
END:DAYLIGHT
BEGIN:STANDARD
TZOFFSETFROM:-0400
TZOFFSETTO:-0500
TZNAME:EST
DTSTART:20221106T060000
END:STANDARD
BEGIN:DAYLIGHT
TZOFFSETFROM:-0500
TZOFFSETTO:-0400
TZNAME:EDT
DTSTART:20230312T070000
END:DAYLIGHT
BEGIN:STANDARD
TZOFFSETFROM:-0400
TZOFFSETTO:-0500
TZNAME:EST
DTSTART:20231105T060000
END:STANDARD
END:VTIMEZONE
BEGIN:VEVENT
DTSTART;TZID=America/New_York:20220710T070000
DTEND;TZID=America/New_York:20220713T120000
DTSTAMP:20260425T105315
CREATED:20220610T204108Z
LAST-MODIFIED:20220610T204108Z
UID:7694-1657436400-1657713600@aginganddisabilitybusinessinstitute.org
SUMMARY:USAging's 47th Annual Conference and Tradeshow
DESCRIPTION:REGISTER FOR THE CONFERENCE HERE \nThe USAging Answers on Aging Annual Conference and Tradeshow is the country’s largest gathering of local leaders in aging. Each year\, these professionals come together with government experts\, policymakers\, business leaders\, and other Aging Network practitioners and partners to share knowledge\, insights and new directions in the field of aging. \nThe USAging Conference has a rich history of providing peer-to-peer learning\, insight into federal policy and national trends that affect local communities\, and tremendous opportunities for learning. \nThe more than 100 sessions held during the four-day Conference offer different ways to learn about and discuss innovative approaches\, hot topics\, current issues in aging\, replicable programs\, new opportunities for procuring sustainable funding streams and more. Attendees return home full of new insights\, program ideas and connections to other aging colleagues who understand the challenges and opportunities ahead. \nIt’s the one Conference that professionals in the Aging Network shouldn’t miss.
URL:https://aginganddisabilitybusinessinstitute.org/event/usagings-47th-annual-conference-and-tradeshow-2/
LOCATION:JW Marriott Austin\, 110 E 2nd St.\, Austin\, TX\, 78701\, United States
CATEGORIES:Conference
END:VEVENT
END:VCALENDAR