BEGIN:VCALENDAR
VERSION:2.0
PRODID:-//Aging and Disability Business Institute - ECPv6.15.20//NONSGML v1.0//EN
CALSCALE:GREGORIAN
METHOD:PUBLISH
X-ORIGINAL-URL:https://aginganddisabilitybusinessinstitute.org
X-WR-CALDESC:Events for Aging and Disability Business Institute
REFRESH-INTERVAL;VALUE=DURATION:PT1H
X-Robots-Tag:noindex
X-PUBLISHED-TTL:PT1H
BEGIN:VTIMEZONE
TZID:America/New_York
BEGIN:DAYLIGHT
TZOFFSETFROM:-0500
TZOFFSETTO:-0400
TZNAME:EDT
DTSTART:20220313T070000
END:DAYLIGHT
BEGIN:STANDARD
TZOFFSETFROM:-0400
TZOFFSETTO:-0500
TZNAME:EST
DTSTART:20221106T060000
END:STANDARD
BEGIN:DAYLIGHT
TZOFFSETFROM:-0500
TZOFFSETTO:-0400
TZNAME:EDT
DTSTART:20230312T070000
END:DAYLIGHT
BEGIN:STANDARD
TZOFFSETFROM:-0400
TZOFFSETTO:-0500
TZNAME:EST
DTSTART:20231105T060000
END:STANDARD
BEGIN:DAYLIGHT
TZOFFSETFROM:-0500
TZOFFSETTO:-0400
TZNAME:EDT
DTSTART:20240310T070000
END:DAYLIGHT
BEGIN:STANDARD
TZOFFSETFROM:-0400
TZOFFSETTO:-0500
TZNAME:EST
DTSTART:20241103T060000
END:STANDARD
END:VTIMEZONE
BEGIN:VEVENT
DTSTART;VALUE=DATE:20230425
DTEND;VALUE=DATE:20230427
DTSTAMP:20260425T103502
CREATED:20230105T181646Z
LAST-MODIFIED:20230105T181715Z
UID:8036-1682380800-1682553599@aginganddisabilitybusinessinstitute.org
SUMMARY:USAging's Aging Policy Briefing & Capitol Hill Day
DESCRIPTION:Advocates wanted! Join USAging this spring to update your policy knowledge and advocate with your congressional delegations on Capitol Hill. \nWith the dwindling of COVID-19 relief funding\, the need for continued advocacy for sustained annual funding and a brand-new Congress\, it’s more important than ever for aging advocates like YOU to join us in Washington\, DC\, to navigate our new political realities and changing legislative landscape. \nAttendees will hear from the experts about what’s needed to advocate for today’s aging policy priorities\, gain insider analysis of the policy landscape in Washington\, and get the messaging\, tools and tactics they need to best advocate on behalf of older adults and caregivers at the local\, state and national levels. And in exciting news\, USAging’s Aging and Disability Business Institute will once again host a special intensive—details below! \nYou really can’t afford to miss the 2023 USAging Policy Briefing\, mingle with peers just steps from the Capitol and get the latest policy insights that will help you advocate successfully for the older adults and caregivers you serve in your communities. \nLearn more and register at usaging.org/apb. 
URL:https://aginganddisabilitybusinessinstitute.org/event/usagings-aging-policy-briefing-capitol-hill-day/
LOCATION:Hilton Washington DC Capitol Hill\, 525 New Jersey Avenue\, NW\, Washington\, DC\, 20001\, United States
CATEGORIES:Briefing
ATTACH;FMTTYPE=image/png:https://aginganddisabilitybusinessinstitute.org/wp-content/uploads/2023/01/Save-the-Date-sldier.png
END:VEVENT
END:VCALENDAR