BEGIN:VCALENDAR
VERSION:2.0
PRODID:-//Aging and Disability Business Institute - ECPv6.15.20//NONSGML v1.0//EN
CALSCALE:GREGORIAN
METHOD:PUBLISH
X-WR-CALNAME:Aging and Disability Business Institute
X-ORIGINAL-URL:https://aginganddisabilitybusinessinstitute.org
X-WR-CALDESC:Events for Aging and Disability Business Institute
REFRESH-INTERVAL;VALUE=DURATION:PT1H
X-Robots-Tag:noindex
X-PUBLISHED-TTL:PT1H
BEGIN:VTIMEZONE
TZID:America/New_York
BEGIN:DAYLIGHT
TZOFFSETFROM:-0500
TZOFFSETTO:-0400
TZNAME:EDT
DTSTART:20210314T070000
END:DAYLIGHT
BEGIN:STANDARD
TZOFFSETFROM:-0400
TZOFFSETTO:-0500
TZNAME:EST
DTSTART:20211107T060000
END:STANDARD
BEGIN:DAYLIGHT
TZOFFSETFROM:-0500
TZOFFSETTO:-0400
TZNAME:EDT
DTSTART:20220313T070000
END:DAYLIGHT
BEGIN:STANDARD
TZOFFSETFROM:-0400
TZOFFSETTO:-0500
TZNAME:EST
DTSTART:20221106T060000
END:STANDARD
BEGIN:DAYLIGHT
TZOFFSETFROM:-0500
TZOFFSETTO:-0400
TZNAME:EDT
DTSTART:20230312T070000
END:DAYLIGHT
BEGIN:STANDARD
TZOFFSETFROM:-0400
TZOFFSETTO:-0500
TZNAME:EST
DTSTART:20231105T060000
END:STANDARD
END:VTIMEZONE
BEGIN:VEVENT
DTSTART;TZID=America/New_York:20220302T140000
DTEND;TZID=America/New_York:20220302T150000
DTSTAMP:20260425T080204
CREATED:20220225T160804Z
LAST-MODIFIED:20220412T170338Z
UID:7383-1646229600-1646233200@aginganddisabilitybusinessinstitute.org
SUMMARY:State Actions to Increase Access to Supportive Housing
DESCRIPTION:REGISTER FOR THIS WEBINAR HERE \nNCSL Webinars allow attendees to participate in meetings taking place around the world from the comfort of their desk. They are collaborative\, interactive and easy to use. \nMost webinars will be recorded for those who are unable to attend the live meeting. \nTo improve the health of individuals experiencing homelessness and reduce associated health care costs\, many states are leveraging COVID-19 relief and other funds to provide permanent supportive housing. This type of low-barrier\, affordable housing provides health care and support services\, such as case management\, child care and employment assistance. Featuring national and state perspectives\, this webinar will explore the landscape of permanent supportive housing and highlight several state legislative actions.
URL:https://aginganddisabilitybusinessinstitute.org/event/state-actions-to-increase-access-to-supportive-housing/
CATEGORIES:Webinar
ATTACH;FMTTYPE=image/jpeg:https://aginganddisabilitybusinessinstitute.org/wp-content/uploads/2020/12/webinar-5220471_1920.jpg
END:VEVENT
END:VCALENDAR