BEGIN:VCALENDAR
VERSION:2.0
PRODID:-//Aging and Disability Business Institute - ECPv6.15.20//NONSGML v1.0//EN
CALSCALE:GREGORIAN
METHOD:PUBLISH
X-ORIGINAL-URL:https://aginganddisabilitybusinessinstitute.org
X-WR-CALDESC:Events for Aging and Disability Business Institute
REFRESH-INTERVAL;VALUE=DURATION:PT1H
X-Robots-Tag:noindex
X-PUBLISHED-TTL:PT1H
BEGIN:VTIMEZONE
TZID:America/New_York
BEGIN:DAYLIGHT
TZOFFSETFROM:-0500
TZOFFSETTO:-0400
TZNAME:EDT
DTSTART:20230312T070000
END:DAYLIGHT
BEGIN:STANDARD
TZOFFSETFROM:-0400
TZOFFSETTO:-0500
TZNAME:EST
DTSTART:20231105T060000
END:STANDARD
BEGIN:DAYLIGHT
TZOFFSETFROM:-0500
TZOFFSETTO:-0400
TZNAME:EDT
DTSTART:20240310T070000
END:DAYLIGHT
BEGIN:STANDARD
TZOFFSETFROM:-0400
TZOFFSETTO:-0500
TZNAME:EST
DTSTART:20241103T060000
END:STANDARD
BEGIN:DAYLIGHT
TZOFFSETFROM:-0500
TZOFFSETTO:-0400
TZNAME:EDT
DTSTART:20250309T070000
END:DAYLIGHT
BEGIN:STANDARD
TZOFFSETFROM:-0400
TZOFFSETTO:-0500
TZNAME:EST
DTSTART:20251102T060000
END:STANDARD
END:VTIMEZONE
BEGIN:VEVENT
DTSTART;TZID=America/New_York:20240306T150000
DTEND;TZID=America/New_York:20240306T160000
DTSTAMP:20260425T111333
CREATED:20240222T171420Z
LAST-MODIFIED:20240308T162407Z
UID:8571-1709737200-1709740800@aginganddisabilitybusinessinstitute.org
SUMMARY:Introduction to Community Care Hubs: Why CILs Should Be Involved
DESCRIPTION:Join the Aging and Disability Business Institute in partnership with ILRU for a discussion with colleagues from the U.S. Administration on Community Living (ACL) and Centers for Independent Living (CIL) on the value of the community care hub (CCH) model in supporting the advancement of independent living and bringing social care expertise to health care organizations. \nWith increased attention on the impact of health-related social needs (HRSNs)\, CILs are positioning themselves to partner and contract with health care organizations in providing social care services that are core to independent living. A growing number of CILs and other community-based organizations (CBOs) are entering into contracts as part of a CBO network led by a CCH. CCHs provide administrative and operational infrastructure for a network of CBOs and enable efficient contracting and sustainable financing to better serve populations in need. \nThis webinar will define and introduce the CCH model\, illustrate the various roles for CILs in engaging in a CCH-led network\, and feature CIL leaders and their experiences in partnering with a CCH and operationalizing health care contracts through the CCH model.
URL:https://aginganddisabilitybusinessinstitute.org/event/introduction-to-community-care-hubs-what-are-they-and-what-do-they-do/
CATEGORIES:Webinar
ATTACH;FMTTYPE=image/jpeg:https://aginganddisabilitybusinessinstitute.org/wp-content/uploads/2020/12/webinar-5220471_1920.jpg
END:VEVENT
END:VCALENDAR