BEGIN:VCALENDAR
VERSION:2.0
PRODID:-//Aging and Disability Business Institute - ECPv6.15.20//NONSGML v1.0//EN
CALSCALE:GREGORIAN
METHOD:PUBLISH
X-WR-CALNAME:Aging and Disability Business Institute
X-ORIGINAL-URL:https://aginganddisabilitybusinessinstitute.org
X-WR-CALDESC:Events for Aging and Disability Business Institute
REFRESH-INTERVAL;VALUE=DURATION:PT1H
X-Robots-Tag:noindex
X-PUBLISHED-TTL:PT1H
BEGIN:VTIMEZONE
TZID:America/New_York
BEGIN:DAYLIGHT
TZOFFSETFROM:-0500
TZOFFSETTO:-0400
TZNAME:EDT
DTSTART:20210314T070000
END:DAYLIGHT
BEGIN:STANDARD
TZOFFSETFROM:-0400
TZOFFSETTO:-0500
TZNAME:EST
DTSTART:20211107T060000
END:STANDARD
BEGIN:DAYLIGHT
TZOFFSETFROM:-0500
TZOFFSETTO:-0400
TZNAME:EDT
DTSTART:20220313T070000
END:DAYLIGHT
BEGIN:STANDARD
TZOFFSETFROM:-0400
TZOFFSETTO:-0500
TZNAME:EST
DTSTART:20221106T060000
END:STANDARD
BEGIN:DAYLIGHT
TZOFFSETFROM:-0500
TZOFFSETTO:-0400
TZNAME:EDT
DTSTART:20230312T070000
END:DAYLIGHT
BEGIN:STANDARD
TZOFFSETFROM:-0400
TZOFFSETTO:-0500
TZNAME:EST
DTSTART:20231105T060000
END:STANDARD
END:VTIMEZONE
BEGIN:VEVENT
DTSTART;TZID=America/New_York:20220421T120000
DTEND;TZID=America/New_York:20220421T130000
DTSTAMP:20260425T080208
CREATED:20220412T150650Z
LAST-MODIFIED:20220412T150650Z
UID:7578-1650542400-1650546000@aginganddisabilitybusinessinstitute.org
SUMMARY:Rural Health Quality: How CMS Initiatives Improve How We Measure and Address Gaps in Care
DESCRIPTION:REGISTER FOR THIS WEBINAR HERE \nThe Centers for Medicare & Medicaid Services (CMS) is pleased to invite the public to attend its upcoming webinar: “Rural Health Quality: How CMS Initiatives Improve How We Measure and Address Gaps in Care.” This presentation will highlight the unique challenges surrounding quality measurement in rural settings\, and how CMS is working to address these issues to ensure equitable care is provided to all Americans regardless of where they reside.
URL:https://aginganddisabilitybusinessinstitute.org/event/rural-health-quality-how-cms-initiatives-improve-how-we-measure-and-address-gaps-in-care-2/
CATEGORIES:Webinar
ATTACH;FMTTYPE=image/png:https://aginganddisabilitybusinessinstitute.org/wp-content/uploads/2021/10/older-adults_rural-house.png
END:VEVENT
END:VCALENDAR