BEGIN:VCALENDAR
VERSION:2.0
PRODID:-//Aging and Disability Business Institute - ECPv6.15.20//NONSGML v1.0//EN
CALSCALE:GREGORIAN
METHOD:PUBLISH
X-WR-CALNAME:Aging and Disability Business Institute
X-ORIGINAL-URL:https://aginganddisabilitybusinessinstitute.org
X-WR-CALDESC:Events for Aging and Disability Business Institute
REFRESH-INTERVAL;VALUE=DURATION:PT1H
X-Robots-Tag:noindex
X-PUBLISHED-TTL:PT1H
BEGIN:VTIMEZONE
TZID:America/New_York
BEGIN:DAYLIGHT
TZOFFSETFROM:-0500
TZOFFSETTO:-0400
TZNAME:EDT
DTSTART:20210314T070000
END:DAYLIGHT
BEGIN:STANDARD
TZOFFSETFROM:-0400
TZOFFSETTO:-0500
TZNAME:EST
DTSTART:20211107T060000
END:STANDARD
BEGIN:DAYLIGHT
TZOFFSETFROM:-0500
TZOFFSETTO:-0400
TZNAME:EDT
DTSTART:20220313T070000
END:DAYLIGHT
BEGIN:STANDARD
TZOFFSETFROM:-0400
TZOFFSETTO:-0500
TZNAME:EST
DTSTART:20221106T060000
END:STANDARD
BEGIN:DAYLIGHT
TZOFFSETFROM:-0500
TZOFFSETTO:-0400
TZNAME:EDT
DTSTART:20230312T070000
END:DAYLIGHT
BEGIN:STANDARD
TZOFFSETFROM:-0400
TZOFFSETTO:-0500
TZNAME:EST
DTSTART:20231105T060000
END:STANDARD
END:VTIMEZONE
BEGIN:VEVENT
DTSTART;TZID=America/New_York:20221025T140000
DTEND;TZID=America/New_York:20221027T170000
DTSTAMP:20260425T080044
CREATED:20220810T175802Z
LAST-MODIFIED:20220810T175802Z
UID:7800-1666706400-1666890000@aginganddisabilitybusinessinstitute.org
SUMMARY:Community Benefit 101: The Nuts and Bolts of Planning and Reporting Community Benefit
DESCRIPTION:CHA’s Community Benefit 101 program will continue to be offered as a virtual event in 2022! A highlight for 2022 will be the debut of the newest edition of CHA’s nationally-recognized resource\, A Guide for Planning and Reporting Community Benefit which will include updates on identifying and addressing health disparities and forming more authentic\, effective community partnerships. \nCommunity Benefit 101 provides new community benefit professionals and others who want to learn about community benefit with the foundational knowledge and tools needed to meet today’s challenges. Through video presentations\, live chat and commentary provided by community benefit leaders\, CHA will provide the basics of community benefit\, access to practical tools and resources\, as well as timely public policy updates. \n\n\nObjectives\nThe CB 101 virtual conference sessions will cover: \n\nHow community benefit demonstrates the organization’s mission.\nThe latest news on tax exemption/community benefit issues.\nSteps for planning and evaluating community benefit programs.\nPolicies needed to support community benefit programs.\nWhat counts and doesn’t count as community benefit.\nCommunity benefit accounting principles.\nHow to tell the community benefit story.
URL:https://aginganddisabilitybusinessinstitute.org/event/community-benefit-101-the-nuts-and-bolts-of-planning-and-reporting-community-benefit/
CATEGORIES:Conference
ATTACH;FMTTYPE=image/jpeg:https://aginganddisabilitybusinessinstitute.org/wp-content/uploads/2020/12/webinar-5220471_1920.jpg
END:VEVENT
END:VCALENDAR