BEGIN:VCALENDAR
VERSION:2.0
PRODID:-//Aging and Disability Business Institute - ECPv6.15.20//NONSGML v1.0//EN
CALSCALE:GREGORIAN
METHOD:PUBLISH
X-WR-CALNAME:Aging and Disability Business Institute
X-ORIGINAL-URL:https://aginganddisabilitybusinessinstitute.org
X-WR-CALDESC:Events for Aging and Disability Business Institute
REFRESH-INTERVAL;VALUE=DURATION:PT1H
X-Robots-Tag:noindex
X-PUBLISHED-TTL:PT1H
BEGIN:VTIMEZONE
TZID:America/New_York
BEGIN:DAYLIGHT
TZOFFSETFROM:-0500
TZOFFSETTO:-0400
TZNAME:EDT
DTSTART:20220313T070000
END:DAYLIGHT
BEGIN:STANDARD
TZOFFSETFROM:-0400
TZOFFSETTO:-0500
TZNAME:EST
DTSTART:20221106T060000
END:STANDARD
BEGIN:DAYLIGHT
TZOFFSETFROM:-0500
TZOFFSETTO:-0400
TZNAME:EDT
DTSTART:20230312T070000
END:DAYLIGHT
BEGIN:STANDARD
TZOFFSETFROM:-0400
TZOFFSETTO:-0500
TZNAME:EST
DTSTART:20231105T060000
END:STANDARD
BEGIN:DAYLIGHT
TZOFFSETFROM:-0500
TZOFFSETTO:-0400
TZNAME:EDT
DTSTART:20240310T070000
END:DAYLIGHT
BEGIN:STANDARD
TZOFFSETFROM:-0400
TZOFFSETTO:-0500
TZNAME:EST
DTSTART:20241103T060000
END:STANDARD
BEGIN:DAYLIGHT
TZOFFSETFROM:-0500
TZOFFSETTO:-0400
TZNAME:EDT
DTSTART:20250309T070000
END:DAYLIGHT
BEGIN:STANDARD
TZOFFSETFROM:-0400
TZOFFSETTO:-0500
TZNAME:EST
DTSTART:20251102T060000
END:STANDARD
BEGIN:DAYLIGHT
TZOFFSETFROM:-0500
TZOFFSETTO:-0400
TZNAME:EDT
DTSTART:20260308T070000
END:DAYLIGHT
BEGIN:STANDARD
TZOFFSETFROM:-0400
TZOFFSETTO:-0500
TZNAME:EST
DTSTART:20261101T060000
END:STANDARD
END:VTIMEZONE
BEGIN:VEVENT
DTSTART;TZID=America/New_York:20250225T130000
DTEND;TZID=America/New_York:20250225T140000
DTSTAMP:20260425T093547
CREATED:20250123T192802Z
LAST-MODIFIED:20250212T153510Z
UID:9166-1740488400-1740492000@aginganddisabilitybusinessinstitute.org
SUMMARY:Economic Justice for Aging Communities
DESCRIPTION:This session will focus on economic justice challenges and solutions for older adults. They include ways to measure economic security\, as well as the impact of income\, housing\, transportation\, health care\, long-term services and supports and food on the economic security of older adults. The webinar will include suggestions for engaging in client-level advocacy as well as broader advocacy to promote economic justice for older adults. \nParticipants in this webinar will be able to:\n\nDefine economic justice\nIdentify the role of housing\, health care\, LTSS\, nutrition and transportation in economic security\nIdentify the role of advocacy in promoting economic justice\n\nPresenters:\nLynn Kimball\, MSW\, is the executive director of Aging and Long-Term Care of Eastern Washington\, an Area Agency on Aging that serves a mix of urban and rural counties in Washington State.
URL:https://aginganddisabilitybusinessinstitute.org/event/economic-justice-for-aging-communities/
CATEGORIES:Webinar
ATTACH;FMTTYPE=image/jpeg:https://aginganddisabilitybusinessinstitute.org/wp-content/uploads/2020/12/webinar-5220471_1920.jpg
END:VEVENT
BEGIN:VEVENT
DTSTART;TZID=America/New_York:20230307T130000
DTEND;TZID=America/New_York:20230307T140000
DTSTAMP:20260425T093547
CREATED:20230215T155048Z
LAST-MODIFIED:20230215T163031Z
UID:8146-1678194000-1678197600@aginganddisabilitybusinessinstitute.org
SUMMARY:How to Engage in Cultural Humility When Working with Minoritized Individuals Ages 65 and Older
DESCRIPTION:There is a common misconception that people older than age 65 are all alike. This stereotype couldn’t be further from the truth. A recent Gallup poll found that 7% of American adults identify as LGBTQ\, the highest number of LGBTQ residents in the United States since Gallup began polling. Other studies show that 22% of people ages 65 and older reported having a disability\, and yet another study found that by 2030\, the population of older racial/ethnic minority populations will increase by 89%\, compared to a 39% increase in White older adults. \nThis webinar will review in-depth intersecting minority identities among older adults (focusing primarily on race\, disability\, social class\, and LGTBQ+ identities) and will encourage participants to explore their own biases and assumptions\, as well as strategies for reducing cultural bias in clinical interactions. A model will be shared for deepening interpersonal cultural humility and vignettes will be used to apply knowledge. \nParticipants in this webinar will: \n\nDefine cultural humility.\nIllustrate intersecting minority identities among people older than age 65 (focusing primarily on age\, race\, disability\, social class\, and LGTBQ+ identities).\nDescribe the important role of resilience factors among minoritized people older than age 65.\n\nPresenter: \nDr. Regina Koepp is a board-certified clinical psychologist and founder and director of the Center for Mental Health & Aging. She is the lead medical psychologist at University of Vermont Medical Center and creator and host of the Psychology of Aging Podcast. She is a sought-after speaker on the topics of mental health and aging\, caregiving\, ageism\, cultural humility\, sexual health and aging\, intimacy in the context of life-altering Illness and dementia and sexual expression. She is creator of the only dementia and sexual health certification program in the United States. Dr. Koepp a contributing writer at Psychology Today and Psychotherapy Networker\, where she discusses mental health and sexual health in the context of aging and illness. She has been featured in the New York Times\, Chicago Tribune\, Baltimore Sun\, Insider and other national periodicals. \nThis is the second webinar in the Leading Change in Aging Through DEI Accountability series co-hosted by the Aging and Disability Business Institute and the American Society on Aging.
URL:https://aginganddisabilitybusinessinstitute.org/event/how-to-engage-in-cultural-humility-when-working-with-minoritized-individuals-ages-65-and-older/
CATEGORIES:Webinar
ATTACH;FMTTYPE=image/jpeg:https://aginganddisabilitybusinessinstitute.org/wp-content/uploads/2020/12/webinar-5220471_1920.jpg
END:VEVENT
END:VCALENDAR