BEGIN:VCALENDAR
VERSION:2.0
PRODID:-//Aging and Disability Business Institute - ECPv6.15.20//NONSGML v1.0//EN
CALSCALE:GREGORIAN
METHOD:PUBLISH
X-WR-CALNAME:Aging and Disability Business Institute
X-ORIGINAL-URL:https://aginganddisabilitybusinessinstitute.org
X-WR-CALDESC:Events for Aging and Disability Business Institute
REFRESH-INTERVAL;VALUE=DURATION:PT1H
X-Robots-Tag:noindex
X-PUBLISHED-TTL:PT1H
BEGIN:VTIMEZONE
TZID:America/New_York
BEGIN:DAYLIGHT
TZOFFSETFROM:-0500
TZOFFSETTO:-0400
TZNAME:EDT
DTSTART:20210314T070000
END:DAYLIGHT
BEGIN:STANDARD
TZOFFSETFROM:-0400
TZOFFSETTO:-0500
TZNAME:EST
DTSTART:20211107T060000
END:STANDARD
BEGIN:DAYLIGHT
TZOFFSETFROM:-0500
TZOFFSETTO:-0400
TZNAME:EDT
DTSTART:20220313T070000
END:DAYLIGHT
BEGIN:STANDARD
TZOFFSETFROM:-0400
TZOFFSETTO:-0500
TZNAME:EST
DTSTART:20221106T060000
END:STANDARD
BEGIN:DAYLIGHT
TZOFFSETFROM:-0500
TZOFFSETTO:-0400
TZNAME:EDT
DTSTART:20230312T070000
END:DAYLIGHT
BEGIN:STANDARD
TZOFFSETFROM:-0400
TZOFFSETTO:-0500
TZNAME:EST
DTSTART:20231105T060000
END:STANDARD
BEGIN:DAYLIGHT
TZOFFSETFROM:-0500
TZOFFSETTO:-0400
TZNAME:EDT
DTSTART:20240310T070000
END:DAYLIGHT
BEGIN:STANDARD
TZOFFSETFROM:-0400
TZOFFSETTO:-0500
TZNAME:EST
DTSTART:20241103T060000
END:STANDARD
BEGIN:DAYLIGHT
TZOFFSETFROM:-0500
TZOFFSETTO:-0400
TZNAME:EDT
DTSTART:20250309T070000
END:DAYLIGHT
BEGIN:STANDARD
TZOFFSETFROM:-0400
TZOFFSETTO:-0500
TZNAME:EST
DTSTART:20251102T060000
END:STANDARD
END:VTIMEZONE
BEGIN:VEVENT
DTSTART;TZID=America/New_York:20240514T130000
DTEND;TZID=America/New_York:20240514T160000
DTSTAMP:20260425T130019
CREATED:20240503T155133Z
LAST-MODIFIED:20240503T155133Z
UID:8659-1715691600-1715702400@aginganddisabilitybusinessinstitute.org
SUMMARY:National Summit to Increase Social Connections: Day One
DESCRIPTION:Join Commit to Connect and engAGED at the annual National Summit to Increase Social Connections. The virtual conference will take place on May 14 from 1:00 to 4:00 PM ET and May 15 from 1:00 to 3:30 PM ET. This year\, speakers and attendees will explore how to leverage technology to advance social connections for older adults and people with disabilities.   \nThe summit will bring together local\, state\, and national leaders from across sectors working to address social isolation and loneliness.   \nSessions will highlight innovative programs\, resources\, and tools to:  \n\nincrease the capacity of the aging and disability networks to promote social connections; \nincrease awareness and availability of programs\, services\, interventions increasing social connection; and \nleverage technology to increase social connection. \n\nThe virtual National Summit to Increase Social Connections is free and open to the public\, but you must register in advance to participate! This event will include CART closed captioning and ASL interpretation. Recordings from both days will be shared on the Commit to Connect website following the event.
URL:https://aginganddisabilitybusinessinstitute.org/event/national-summit-to-increase-social-connections-day-one/
CATEGORIES:Summit
ATTACH;FMTTYPE=image/jpeg:https://aginganddisabilitybusinessinstitute.org/wp-content/uploads/2024/05/GK03fNYWgAAiKRr.jpg
END:VEVENT
BEGIN:VEVENT
DTSTART;TZID=America/New_York:20240110T160000
DTEND;TZID=America/New_York:20240110T170000
DTSTAMP:20260425T130019
CREATED:20231222T155052Z
LAST-MODIFIED:20231222T155129Z
UID:8522-1704902400-1704906000@aginganddisabilitybusinessinstitute.org
SUMMARY:What the Aging and Disability Networks Need to Know About the CMS GUIDE Model for Dementia Care
DESCRIPTION:In this webinar\, the Administration for Community Living and the Aging and Disability Business Institute will discuss opportunities for our network to engage in the Centers for Medicare & Medicaid Services (CMS) Innovation Center’s new dementia care initiative\, known as the Guiding an Improved Dementia Experience (GUIDE) model. GUIDE focuses on dementia care management with the intent to support people living with dementia and their caregivers in their homes and communities for as long as possible. This webinar will explore the roles of aging network organizations and rationale for developing and delivering sustainable contracted services. \nMembers of the aging network are well-positioned to participate in and/or partner with this program as providers of the range of home and community services required by CMS Innovation Center. This webinar will provide important details on how to become meaningfully involved in this initiative. The webinar will conclude with a question-and-answer period. \nPresenters:  \n\nGreg Link\, Administration on Aging\, ACL\nErin Long\, Administration on Aging\, ACL\nMarisa Scala-Foley\, USAging
URL:https://aginganddisabilitybusinessinstitute.org/event/what-the-aging-and-disability-networks-need-to-know-about-the-cms-guide-model-for-dementia-care/
CATEGORIES:Webinar
ATTACH;FMTTYPE=image/jpeg:https://aginganddisabilitybusinessinstitute.org/wp-content/uploads/2020/12/webinar-5220471_1920.jpg
END:VEVENT
BEGIN:VEVENT
DTSTART;TZID=America/New_York:20220915T150000
DTEND;TZID=America/New_York:20220915T160000
DTSTAMP:20260425T130019
CREATED:20220908T142549Z
LAST-MODIFIED:20220908T142549Z
UID:7836-1663254000-1663257600@aginganddisabilitybusinessinstitute.org
SUMMARY:Identifying and Screening for Food Insecurity in Older Adults
DESCRIPTION:On September 15th\, Join ACL’s Office of Nutrition and Health Promotion Programs (ONHPP) for a webinar on identifying and screening for food insecurity in older adults. Research in this area has been limited\, but there are promising practices and resources available to help senior nutrition programs and others in the aging network address food insecurity. This webinar will explore such resources in the areas of screening\, assessment\, and training. \n \nPresenters: \n\nKathryn Tucker\, MS\, RD\, LD\, Contractor\, ACL\nTemitope A. Walker\, PhD\, Senior Hunger & Nutrition Coordinator\, Georgia Division of Aging Services\n\nThis webinar is part of ONHPP’s older adult food insecurity education series. Find materials from past events at acl.gov/senior-nutrition\, and save the date for the next and final webinar: \n\nOct. 20\, 3 PM ET: Referring Food-Insecure Older Adults to Resources
URL:https://aginganddisabilitybusinessinstitute.org/event/identifying-and-screening-for-food-insecurity-in-older-adults/
CATEGORIES:Webinar
ATTACH;FMTTYPE=image/jpeg:https://aginganddisabilitybusinessinstitute.org/wp-content/uploads/2020/12/webinar-5220471_1920.jpg
END:VEVENT
END:VCALENDAR