BEGIN:VCALENDAR
VERSION:2.0
PRODID:-//Aging and Disability Business Institute - ECPv6.15.20//NONSGML v1.0//EN
CALSCALE:GREGORIAN
METHOD:PUBLISH
X-WR-CALNAME:Aging and Disability Business Institute
X-ORIGINAL-URL:https://aginganddisabilitybusinessinstitute.org
X-WR-CALDESC:Events for Aging and Disability Business Institute
REFRESH-INTERVAL;VALUE=DURATION:PT1H
X-Robots-Tag:noindex
X-PUBLISHED-TTL:PT1H
BEGIN:VTIMEZONE
TZID:America/New_York
BEGIN:DAYLIGHT
TZOFFSETFROM:-0500
TZOFFSETTO:-0400
TZNAME:EDT
DTSTART:20210314T070000
END:DAYLIGHT
BEGIN:STANDARD
TZOFFSETFROM:-0400
TZOFFSETTO:-0500
TZNAME:EST
DTSTART:20211107T060000
END:STANDARD
BEGIN:DAYLIGHT
TZOFFSETFROM:-0500
TZOFFSETTO:-0400
TZNAME:EDT
DTSTART:20220313T070000
END:DAYLIGHT
BEGIN:STANDARD
TZOFFSETFROM:-0400
TZOFFSETTO:-0500
TZNAME:EST
DTSTART:20221106T060000
END:STANDARD
BEGIN:DAYLIGHT
TZOFFSETFROM:-0500
TZOFFSETTO:-0400
TZNAME:EDT
DTSTART:20230312T070000
END:DAYLIGHT
BEGIN:STANDARD
TZOFFSETFROM:-0400
TZOFFSETTO:-0500
TZNAME:EST
DTSTART:20231105T060000
END:STANDARD
END:VTIMEZONE
BEGIN:VEVENT
DTSTART;TZID=America/New_York:20220302T140000
DTEND;TZID=America/New_York:20220302T150000
DTSTAMP:20260425T125551
CREATED:20220225T160804Z
LAST-MODIFIED:20220412T170338Z
UID:7383-1646229600-1646233200@aginganddisabilitybusinessinstitute.org
SUMMARY:State Actions to Increase Access to Supportive Housing
DESCRIPTION:REGISTER FOR THIS WEBINAR HERE \nNCSL Webinars allow attendees to participate in meetings taking place around the world from the comfort of their desk. They are collaborative\, interactive and easy to use. \nMost webinars will be recorded for those who are unable to attend the live meeting. \nTo improve the health of individuals experiencing homelessness and reduce associated health care costs\, many states are leveraging COVID-19 relief and other funds to provide permanent supportive housing. This type of low-barrier\, affordable housing provides health care and support services\, such as case management\, child care and employment assistance. Featuring national and state perspectives\, this webinar will explore the landscape of permanent supportive housing and highlight several state legislative actions.
URL:https://aginganddisabilitybusinessinstitute.org/event/state-actions-to-increase-access-to-supportive-housing/
CATEGORIES:Webinar
ATTACH;FMTTYPE=image/jpeg:https://aginganddisabilitybusinessinstitute.org/wp-content/uploads/2020/12/webinar-5220471_1920.jpg
END:VEVENT
BEGIN:VEVENT
DTSTART;TZID=America/New_York:20220223T120000
DTEND;TZID=America/New_York:20220223T133000
DTSTAMP:20260425T125551
CREATED:20220216T202104Z
LAST-MODIFIED:20220216T202346Z
UID:7341-1645617600-1645623000@aginganddisabilitybusinessinstitute.org
SUMMARY:The Gift of Experience vs. The Stress of Isolation: Older People Share How They've Made it Through the Pandemic
DESCRIPTION:REGISTER FOR THIS WEBINAR HERE. \nOlder adults have suffered more illness and death from covid-19 than any other group. How are they faring as the pandemic enters its third year? \nKFF’s Kaiser Health News (KHN) and The John A. Hartford Foundation will explore that question in depth in a 90-minute interactive web event beginning at Noon ET on Wednesday\, Feb. 23. \nJudith Graham\, KHN’s Navigating Aging columnist\, will moderate the discussion among a panel of nine older adults from diverse backgrounds\, bringing to light their experiences in their own words. Too often\, voices like theirs are not featured prominently in stories about the pandemic. \nRani Snyder\, Vice President\, Program at The John A. Hartford Foundation will make introductory remarks. \nQuestions will include: How have people handled the persistent stress? How have their lives changed? What are their most significant challenges? What needs are not being met? What sources of strength and comfort help sustain them? What are their hopes for the year ahead? \nThe panel will include African American\, Latino\, White\, and LGBTQ+ older adults. Among them are a nursing home resident in Maryland\, a couple living in a retirement community in Pennsylvania\, a man with Alzheimer’s disease from Nevada\, a divorced couple who live together and help each other from North Carolina\, a single woman living alone in Minnesota\, an activist who cares for his bedbound wife in Dallas\, and a woman who lives in affordable housing in New York City.
URL:https://aginganddisabilitybusinessinstitute.org/event/the-gift-of-experience-vs-the-stress-of-isolation-older-people-share-how-theyve-made-it-through-the-pandemic/
CATEGORIES:Webinar
ATTACH;FMTTYPE=image/png:https://aginganddisabilitybusinessinstitute.org/wp-content/uploads/2022/02/canva2.png
END:VEVENT
BEGIN:VEVENT
DTSTART;TZID=America/New_York:20220222T140000
DTEND;TZID=America/New_York:20220222T150000
DTSTAMP:20260425T125551
CREATED:20220222T154922Z
LAST-MODIFIED:20220222T155032Z
UID:7369-1645538400-1645542000@aginganddisabilitybusinessinstitute.org
SUMMARY:Engaging Community Health Workers in Evidence-Based Programs
DESCRIPTION:REGISTER FOR THIS WEBINAR HERE. \nCommunity Health Workers (CHWs) serve as a connection between medical and social services and their communities. Community health workers typically come from the community they work in\, and they may be called different titles such as peer health educators\, lay health advocates\, community health representatives\, or promotoras. Community-based organizations are also using CHWs to screen for social determinants of health and to deliver evidence-based programs\, such as the Chronic Disease Self-Management Programs.  \nThis webinar series will: \n\nRaise awareness about the role of Community Health Workers to implement evidence-based programs and help drive referrals\nDiscuss avenues for sustaining and reimbursing CHWs\nHighlight how CHWs can help organizations reach diverse populations and address social determinants of health factors\n\nRegistration Details: \n\nThis series includes 4 live 60-minute webinars on February 22\, March 9\, 16\, and 24th. \nRegistration is FREE\, and registrants will have access to both the live webinars and the recordings. \nAfter registering\, you will receive a confirmation email\, as well as email reminders prior to each live webinar with a link to join the event.
URL:https://aginganddisabilitybusinessinstitute.org/event/engaging-community-health-workers-in-evidence-based-programs/
CATEGORIES:Webinar
ATTACH;FMTTYPE=image/jpeg:https://aginganddisabilitybusinessinstitute.org/wp-content/uploads/2020/12/webinar-5220471_1920.jpg
END:VEVENT
BEGIN:VEVENT
DTSTART;TZID=America/New_York:20220216T120000
DTEND;TZID=America/New_York:20220216T130000
DTSTAMP:20260425T125551
CREATED:20220207T192213Z
LAST-MODIFIED:20220216T202138Z
UID:7303-1645012800-1645016400@aginganddisabilitybusinessinstitute.org
SUMMARY:Multisector Task-Sharing to Improve Mental Health in Harlem\, NY
DESCRIPTION:REGISTER FOR THIS WEBINAR HERE. \nThis webinar introduces a new S4A study evaluating the effectiveness of a multisector task-sharing collaborative in addressing the inter-related problems of mental health disorders\, poverty\, and housing instability among racial and ethnic minority communities residing in Harlem\, New York. The collaborative trains the staff at low-income housing agencies and primary care practices to engage in mental health task-sharing\, whereby staff deliver basic mental health support services such as screening\, psychoeducation\, peer support\, and referral to mental health specialists. Community health workers are placed at these same sites to help connect clients with needed social services beyond housing and primary care. A randomized controlled trial is used to evaluate the impact of the task-sharing model on mental health\, social functioning\, employment\, and quality of life. The study is conducted by the Harlem Strong Mental Health Coalition\, led by the City University of New York (CUNY) in partnership with the Harlem Congregation for Community Improvement\, Healthfirst Managed Care\, and Coordinated Behavioral Care.
URL:https://aginganddisabilitybusinessinstitute.org/event/multisector-task-sharing-to-improve-mental-health-in-harlem-ny/
CATEGORIES:Webinar
ATTACH;FMTTYPE=image/jpeg:https://aginganddisabilitybusinessinstitute.org/wp-content/uploads/2020/12/webinar-5220471_1920.jpg
END:VEVENT
BEGIN:VEVENT
DTSTART;TZID=America/New_York:20220210T130000
DTEND;TZID=America/New_York:20220210T140000
DTSTAMP:20260425T125551
CREATED:20211230T164257Z
LAST-MODIFIED:20220418T131743Z
UID:7218-1644498000-1644501600@aginganddisabilitybusinessinstitute.org
SUMMARY:Award-Winning CBOs Discuss Their Innovative Programs and Partnerships with Health Care
DESCRIPTION:REGISTER FOR THIS WEBINAR HERE. \nEach year\, The John A. Hartford Foundation Business Innovation Award recognizes community-based organizations that are improving health outcomes and quality of life for older adults and/or persons with disabilities\, in their communities. Runners up for The John A. Hartford Foundation 2021 Business Innovation Award were Daybreak’s Rapid Response Case Management Pilot (RRCM) and the Area Agency on Aging & Disabilities of Southwest Washington’s (AAADSW) Community Paramedicine program\, both programs that work with multiple community partners to improve the health and quality of life of individuals who are frequent users of emergency services. Join this webinar to learn more about how Daybreak and AAADSW developed their programs and partnerships\, the challenges they encountered along the way\, and the outcomes they achieved. \nParticipants in this webinar will be able to: \n\nIdentify the intent of The John A. Hartford Foundation 2020 Business Innovation Award;\nUnderstand key elements of programs that support high emergency service utilizers;\nList key components of a successful partnership between community-based organizations and healthcare entities.\n\nPresenters: \nChristina Marneris is community services manager at AAADSW\, where she has been for 13 years\, and is responsible for planning and managing federal\, state and pilot long-term services and supports for older adults\, adults with disabilities and their family caregivers. \nOfra Paz is executive director of DayBreak\, with more than 15 years’ experience in senior leadership roles in the nonprofit sector. Paz joined DayBreak in 2015\, and has led the organization through a leadership transition\, expanding existing programs\, and developing new lines of services and strategic partnerships\, with government agencies\, healthcare systems and other nonprofits. \nRani E. Snyder\, MPA\, is vice president\, Program\, at The John A. Hartford Foundation. She has more than 25 years’ experience working with healthcare institutions across the country\, improving the care of older adults\, identifying and guiding healthcare programs that have set the standard for medical best practices\, increasing medical education opportunities\, and maximizing resources to improve healthcare broadly. At The John A. Hartford Foundation she coordinates initiatives that foster collaboration among academic institutions\, hospitals and healthcare providers to build Age-Friendly Health Systems\, support family caregivers\, and improve serious illness and end-of-life care. Also she chairs the board at Grantmakers in Aging\, is a board member at ASA\, a fellow of the New York Academy of Medicine\, and served as a Volunteer Long-Term Care Ombudsman for the State of Nevada Aging and Disability Services Division.
URL:https://aginganddisabilitybusinessinstitute.org/event/award-winning-cbos-discuss-their-innovative-programs-and-partnerships-with-health-care/
CATEGORIES:Webinar
ATTACH;FMTTYPE=image/jpeg:https://aginganddisabilitybusinessinstitute.org/wp-content/uploads/2020/12/webinar-5220471_1920.jpg
END:VEVENT
BEGIN:VEVENT
DTSTART;TZID=America/New_York:20220208T130000
DTEND;TZID=America/New_York:20220208T140000
DTSTAMP:20260425T125551
CREATED:20220207T191944Z
LAST-MODIFIED:20220207T192037Z
UID:7299-1644325200-1644328800@aginganddisabilitybusinessinstitute.org
SUMMARY:State Policies to Strengthen the Direct Care Workforce
DESCRIPTION:REGISTER FOR THIS WEBINAR HERE. \nFunded by The John A. Hartford Foundation and the RRF Foundation for Aging\, NASHP’s RAISE Family Caregiver Resource and Dissemination Center is hosting this webinar to discuss state policies to improve the quality and supply of the direct care workforce\, which are featured in the newest section of its RAISE State Policy Roadmap for Family Caregivers. The webinar will provide an overview of state policies and will feature a national leader as well as leaders from Arizona and Colorado who will share their policies and innovations to strengthen the home and community-based services workforce. \nSpeakers include: \nModerator Wendy Fox-Grage\nNASHP Project Director\nRAISE Family Caregiver Resource and Dissemination Center \nRobert Espinoza\nVice President of Policy\, PHI\nRAISE Center Faculty Member \nBill Kennard\nAdministrator Office of Healthcare Workforce Development\nArizona Healthcare Cost Containment System \nHayley Gleason\nDivision Director\, Strategic Outcomes Division\nColorado Office of Community Living
URL:https://aginganddisabilitybusinessinstitute.org/event/state-policies-to-strengthen-the-direct-care-workforce/
CATEGORIES:Webinar
ATTACH;FMTTYPE=image/jpeg:https://aginganddisabilitybusinessinstitute.org/wp-content/uploads/2022/02/caregiver-helping-man-up-from-bed.jpg
END:VEVENT
BEGIN:VEVENT
DTSTART;TZID=America/New_York:20220125T130000
DTEND;TZID=America/New_York:20220125T140000
DTSTAMP:20260425T125551
CREATED:20211213T203943Z
LAST-MODIFIED:20220418T132637Z
UID:7215-1643115600-1643119200@aginganddisabilitybusinessinstitute.org
SUMMARY:Primary Care at Home–How One Area Agency on Aging Is Bringing Back the House Call
DESCRIPTION:REGISTER FOR THIS WEBINAR HERE. \nWatch this webinar to learn how to integrate medical care with home- and community-based programs and leverage new billing opportunities to provide case management services. This webinar will outline all components required to create and/or consider a new program and a new line of business. Create better outcomes for patients/participants while reducing utilization of costly hospitalizations and emergency room visits through close patient monitoring and rapid medical response. Address provider shortages and health disparities using non-physician providers in the home setting to create relationships and bring healthcare to the patient. Utilize community health workers\, social workers and registered nurses along with pharmacists\, nurse practitioners and medical director to implement care plans with patients to stabilize their health and support aging in place. \nParticipants in this webinar will be able to: \n\nIdentify the key areas required to build a medical care programming\nDefine common Medicare-covered services that can be developed\nUnderstand the utilization of non-physician practitioners to address a provider shortage\nDemonstrate the value of case management paired with home- and community-based services and medical care\, resulting in improved patient outcomes.\n\nPresenters: \n\nPam Curtis is the CEO for Senior Resources of West Michigan and has held a variety of positions within the agency over the past 31 years. With minds on the mission\, she and the staff at Senior Resources have been seeking to improve quality and outcomes\, develop new business opportunities to diversify their revenue streams and improve the service array for all older adults.\nKim Vazquez has been with Senior Resources of West Michigan for more than 12 years\, developing various programs during her tenure. Most recently she developed the Primary Care at Home program with her team of medical providers and staff.
URL:https://aginganddisabilitybusinessinstitute.org/event/primary-care-at-home-how-one-area-agency-on-aging-is-bringing-back-the-house-call/
CATEGORIES:Webinar
ATTACH;FMTTYPE=image/jpeg:https://aginganddisabilitybusinessinstitute.org/wp-content/uploads/2020/12/webinar-5220471_1920.jpg
END:VEVENT
END:VCALENDAR