BEGIN:VCALENDAR
VERSION:2.0
PRODID:-//Aging and Disability Business Institute - ECPv6.15.20//NONSGML v1.0//EN
CALSCALE:GREGORIAN
METHOD:PUBLISH
X-WR-CALNAME:Aging and Disability Business Institute
X-ORIGINAL-URL:https://aginganddisabilitybusinessinstitute.org
X-WR-CALDESC:Events for Aging and Disability Business Institute
REFRESH-INTERVAL;VALUE=DURATION:PT1H
X-Robots-Tag:noindex
X-PUBLISHED-TTL:PT1H
BEGIN:VTIMEZONE
TZID:America/New_York
BEGIN:DAYLIGHT
TZOFFSETFROM:-0500
TZOFFSETTO:-0400
TZNAME:EDT
DTSTART:20210314T070000
END:DAYLIGHT
BEGIN:STANDARD
TZOFFSETFROM:-0400
TZOFFSETTO:-0500
TZNAME:EST
DTSTART:20211107T060000
END:STANDARD
BEGIN:DAYLIGHT
TZOFFSETFROM:-0500
TZOFFSETTO:-0400
TZNAME:EDT
DTSTART:20220313T070000
END:DAYLIGHT
BEGIN:STANDARD
TZOFFSETFROM:-0400
TZOFFSETTO:-0500
TZNAME:EST
DTSTART:20221106T060000
END:STANDARD
BEGIN:DAYLIGHT
TZOFFSETFROM:-0500
TZOFFSETTO:-0400
TZNAME:EDT
DTSTART:20230312T070000
END:DAYLIGHT
BEGIN:STANDARD
TZOFFSETFROM:-0400
TZOFFSETTO:-0500
TZNAME:EST
DTSTART:20231105T060000
END:STANDARD
END:VTIMEZONE
BEGIN:VEVENT
DTSTART;TZID=America/New_York:20220818T150000
DTEND;TZID=America/New_York:20220818T160000
DTSTAMP:20260425T091725
CREATED:20220810T175605Z
LAST-MODIFIED:20220810T175605Z
UID:7798-1660834800-1660838400@aginganddisabilitybusinessinstitute.org
SUMMARY:How Livable Communities are Addressing Social Determinants of Health
DESCRIPTION:The next installment of TFAH’s 2022 Age-Friendly Public Health Systems training series will focus on how livable communities are addressing social determinants of health. Speakers will share national and local level innovative practices in livable communities and note valuable partnerships with departments of public health. AARP defines a livable community as one “that is safe and secure. It offers choices in where to live and how to get around. And it equitably serves residents of all ages\, ability levels\, incomes\, races\, ethnicities\, and other backgrounds.” Having safe\, healthy\, and livable communities where older adults can remain active and engaged is an important part of healthy aging. 
URL:https://aginganddisabilitybusinessinstitute.org/event/how-livable-communities-are-addressing-social-determinants-of-health/
CATEGORIES:Training,Webinar
ATTACH;FMTTYPE=image/jpeg:https://aginganddisabilitybusinessinstitute.org/wp-content/uploads/2020/12/webinar-5220471_1920.jpg
END:VEVENT
END:VCALENDAR